BEGIN:VCALENDAR
VERSION:2.0
PRODID:-//Ridge Innovative - ECPv6.15.20//NONSGML v1.0//EN
CALSCALE:GREGORIAN
METHOD:PUBLISH
X-WR-CALNAME:Ridge Innovative
X-ORIGINAL-URL:https://ridgeinnovative.com
X-WR-CALDESC:Events for Ridge Innovative
REFRESH-INTERVAL;VALUE=DURATION:PT1H
X-Robots-Tag:noindex
X-PUBLISHED-TTL:PT1H
BEGIN:VTIMEZONE
TZID:America/Los_Angeles
BEGIN:DAYLIGHT
TZOFFSETFROM:-0800
TZOFFSETTO:-0700
TZNAME:PDT
DTSTART:20180311T100000
END:DAYLIGHT
BEGIN:STANDARD
TZOFFSETFROM:-0700
TZOFFSETTO:-0800
TZNAME:PST
DTSTART:20181104T090000
END:STANDARD
BEGIN:DAYLIGHT
TZOFFSETFROM:-0800
TZOFFSETTO:-0700
TZNAME:PDT
DTSTART:20190310T100000
END:DAYLIGHT
BEGIN:STANDARD
TZOFFSETFROM:-0700
TZOFFSETTO:-0800
TZNAME:PST
DTSTART:20191103T090000
END:STANDARD
BEGIN:DAYLIGHT
TZOFFSETFROM:-0800
TZOFFSETTO:-0700
TZNAME:PDT
DTSTART:20200308T100000
END:DAYLIGHT
BEGIN:STANDARD
TZOFFSETFROM:-0700
TZOFFSETTO:-0800
TZNAME:PST
DTSTART:20201101T090000
END:STANDARD
BEGIN:DAYLIGHT
TZOFFSETFROM:-0800
TZOFFSETTO:-0700
TZNAME:PDT
DTSTART:20210314T100000
END:DAYLIGHT
BEGIN:STANDARD
TZOFFSETFROM:-0700
TZOFFSETTO:-0800
TZNAME:PST
DTSTART:20211107T090000
END:STANDARD
BEGIN:DAYLIGHT
TZOFFSETFROM:-0800
TZOFFSETTO:-0700
TZNAME:PDT
DTSTART:20220313T100000
END:DAYLIGHT
BEGIN:STANDARD
TZOFFSETFROM:-0700
TZOFFSETTO:-0800
TZNAME:PST
DTSTART:20221106T090000
END:STANDARD
END:VTIMEZONE
BEGIN:VEVENT
DTSTART;TZID=America/Los_Angeles:20210121T160000
DTEND;TZID=America/Los_Angeles:20210121T170000
DTSTAMP:20260425T152258
CREATED:20201215T022157Z
LAST-MODIFIED:20221222T183427Z
UID:4174-1611244800-1611248400@ridgeinnovative.com
SUMMARY:Being High Powered - Alliance of Channel Women Webinar
DESCRIPTION:Now\, more than ever\, qualities such as empathy\, flexibility and creativity are our most valuable assets. Join me on an Alliance of Channel Women webinar to explore how who you “be” is the greatest source of power in its truest sense. \nGain practical “how to’s” such as: \n\nUnderstanding the distinctions between Being\, Doing\, and Having\nFind out if you use experience as an asset or an obstacle\nMaking every conversation count\n\nPlease download and print “Succeeding in Today’s Channels“\, prior to the webinar. \nThis webinar – on Thursday\, January 21\, at 4pm ET/1pm PT – is open to all #WomenInTech\, so please share this email with your friends and encourage them to become a part of the Alliance of Channel Women community. \nHope to see you at this important meeting.
URL:https://ridgeinnovative.com/event/being-high-powered_1-21-2021/
CATEGORIES:Channel,event,Speaking,women in tech
ATTACH;FMTTYPE=:
END:VEVENT
BEGIN:VEVENT
DTSTART;VALUE=DATE:20191201
DTEND;VALUE=DATE:20191202
DTSTAMP:20260425T152258
CREATED:20191030T162754Z
LAST-MODIFIED:20221222T183428Z
UID:3849-1575158400-1575244799@ridgeinnovative.com
SUMMARY:ACW Connect Live @ CPEvolution Europe
DESCRIPTION:Exporting Empowerment for Women in the Tech Channel \nOceans and borders may divide us\, but we’re joined in a common experience as women in the tech channel. The Alliance of Channel Women has spent nearly a decade helping American channel women find their voice. And\, now we’re ready to export the lessons we’ve learned about empowering women to advance their tech careers in our first international event at Channel Evolution Europe. We’re excited to meet with our European counterparts to discuss the opportunities and challenges for channel women as well as offer guidance for jumpstarting their own efforts to create a community for learning\, collaboration and leadership. \nLet’s bridge the gaps for channel women together! \nJoin us for a dynamic evening of networking\, conversation and collaboration!
URL:https://ridgeinnovative.com/event/acw-connect-live-cpevolution-europe/
CATEGORIES:Channel,event,Speaking,women in tech
ATTACH;FMTTYPE=:
END:VEVENT
BEGIN:VEVENT
DTSTART;TZID=America/Los_Angeles:20191104T160000
DTEND;TZID=America/Los_Angeles:20191104T173000
DTSTAMP:20260425T152258
CREATED:20190905T212002Z
LAST-MODIFIED:20221222T183428Z
UID:3479-1572883200-1572888600@ridgeinnovative.com
SUMMARY:How to Be a Woman In Technology
DESCRIPTION:Don’t miss our session\, “How To Be A Woman In Technology\,” at the 2019 INCOMPAS Show on Nov. 4th in Louisville!
URL:https://ridgeinnovative.com/event/how-to-be-a-woman-in-technology/
CATEGORIES:Channel,event,Speaking,women in tech
ATTACH;FMTTYPE=:
END:VEVENT
END:VCALENDAR