BEGIN:VCALENDAR
VERSION:2.0
PRODID:-//Ridge Innovative - ECPv6.15.20//NONSGML v1.0//EN
CALSCALE:GREGORIAN
METHOD:PUBLISH
X-ORIGINAL-URL:https://ridgeinnovative.com
X-WR-CALDESC:Events for Ridge Innovative
REFRESH-INTERVAL;VALUE=DURATION:PT1H
X-Robots-Tag:noindex
X-PUBLISHED-TTL:PT1H
BEGIN:VTIMEZONE
TZID:UTC
BEGIN:STANDARD
TZOFFSETFROM:+0000
TZOFFSETTO:+0000
TZNAME:UTC
DTSTART:20210101T000000
END:STANDARD
END:VTIMEZONE
BEGIN:VTIMEZONE
TZID:America/Los_Angeles
BEGIN:DAYLIGHT
TZOFFSETFROM:-0800
TZOFFSETTO:-0700
TZNAME:PDT
DTSTART:20180311T100000
END:DAYLIGHT
BEGIN:STANDARD
TZOFFSETFROM:-0700
TZOFFSETTO:-0800
TZNAME:PST
DTSTART:20181104T090000
END:STANDARD
BEGIN:DAYLIGHT
TZOFFSETFROM:-0800
TZOFFSETTO:-0700
TZNAME:PDT
DTSTART:20190310T100000
END:DAYLIGHT
BEGIN:STANDARD
TZOFFSETFROM:-0700
TZOFFSETTO:-0800
TZNAME:PST
DTSTART:20191103T090000
END:STANDARD
BEGIN:DAYLIGHT
TZOFFSETFROM:-0800
TZOFFSETTO:-0700
TZNAME:PDT
DTSTART:20200308T100000
END:DAYLIGHT
BEGIN:STANDARD
TZOFFSETFROM:-0700
TZOFFSETTO:-0800
TZNAME:PST
DTSTART:20201101T090000
END:STANDARD
BEGIN:DAYLIGHT
TZOFFSETFROM:-0800
TZOFFSETTO:-0700
TZNAME:PDT
DTSTART:20210314T100000
END:DAYLIGHT
BEGIN:STANDARD
TZOFFSETFROM:-0700
TZOFFSETTO:-0800
TZNAME:PST
DTSTART:20211107T090000
END:STANDARD
BEGIN:DAYLIGHT
TZOFFSETFROM:-0800
TZOFFSETTO:-0700
TZNAME:PDT
DTSTART:20220313T100000
END:DAYLIGHT
BEGIN:STANDARD
TZOFFSETFROM:-0700
TZOFFSETTO:-0800
TZNAME:PST
DTSTART:20221106T090000
END:STANDARD
END:VTIMEZONE
BEGIN:VTIMEZONE
TZID:America/New_York
BEGIN:DAYLIGHT
TZOFFSETFROM:-0500
TZOFFSETTO:-0400
TZNAME:EDT
DTSTART:20180311T070000
END:DAYLIGHT
BEGIN:STANDARD
TZOFFSETFROM:-0400
TZOFFSETTO:-0500
TZNAME:EST
DTSTART:20181104T060000
END:STANDARD
BEGIN:DAYLIGHT
TZOFFSETFROM:-0500
TZOFFSETTO:-0400
TZNAME:EDT
DTSTART:20190310T070000
END:DAYLIGHT
BEGIN:STANDARD
TZOFFSETFROM:-0400
TZOFFSETTO:-0500
TZNAME:EST
DTSTART:20191103T060000
END:STANDARD
BEGIN:DAYLIGHT
TZOFFSETFROM:-0500
TZOFFSETTO:-0400
TZNAME:EDT
DTSTART:20200308T070000
END:DAYLIGHT
BEGIN:STANDARD
TZOFFSETFROM:-0400
TZOFFSETTO:-0500
TZNAME:EST
DTSTART:20201101T060000
END:STANDARD
END:VTIMEZONE
BEGIN:VEVENT
DTSTART;TZID=UTC:20221021T070000
DTEND;TZID=UTC:20221021T083000
DTSTAMP:20260425T123510
CREATED:20220924T043207Z
LAST-MODIFIED:20221222T183426Z
UID:4533-1666335600-1666341000@ridgeinnovative.com
SUMMARY:ImpartnerCON 2022 ODYSSEY
DESCRIPTION:Join Us for ImpartnerCON 2022 ODYSSEY a journey through the future of channel 10/19 – 10/21\nFor its sixth year\, ImpartnerCON is back and we can’t wait to see you! Join us this fall as the most influential channel leaders and industry speakers join in one space to collaborate\, celebrate\, and deep dive into future-forward content. The incredible downtown of Salt Lake City\, Utah will be the backdrop as we embark on a few days of future-forward channel insights. All conference events as well as guest accommodation will take place at the The Grand America Hotel. \n\n\n\n\n\n\nOn Friday\, October 21st join in a special breakfast from 7:00AM – 8:30AM in the Grand Ballroom BC as Nancy Ridge Founder and President of Ridge Innovative and Norma Watenpaugh Founding Principal of Phoenix Consulting Group present their 1stRelease of PX = CX Survey Results. \n\nREGISTER HERE
URL:https://ridgeinnovative.com/event/impartnercon-2022-odyssey/
CATEGORIES:Channel,event,Speaking
ATTACH;FMTTYPE=:
END:VEVENT
BEGIN:VEVENT
DTSTART;TZID=America/Los_Angeles:20210121T160000
DTEND;TZID=America/Los_Angeles:20210121T170000
DTSTAMP:20260425T123510
CREATED:20201215T022157Z
LAST-MODIFIED:20221222T183427Z
UID:4174-1611244800-1611248400@ridgeinnovative.com
SUMMARY:Being High Powered - Alliance of Channel Women Webinar
DESCRIPTION:Now\, more than ever\, qualities such as empathy\, flexibility and creativity are our most valuable assets. Join me on an Alliance of Channel Women webinar to explore how who you “be” is the greatest source of power in its truest sense. \nGain practical “how to’s” such as: \n\nUnderstanding the distinctions between Being\, Doing\, and Having\nFind out if you use experience as an asset or an obstacle\nMaking every conversation count\n\nPlease download and print “Succeeding in Today’s Channels“\, prior to the webinar. \nThis webinar – on Thursday\, January 21\, at 4pm ET/1pm PT – is open to all #WomenInTech\, so please share this email with your friends and encourage them to become a part of the Alliance of Channel Women community. \nHope to see you at this important meeting.
URL:https://ridgeinnovative.com/event/being-high-powered_1-21-2021/
CATEGORIES:Channel,event,Speaking,women in tech
ATTACH;FMTTYPE=:
END:VEVENT
BEGIN:VEVENT
DTSTART;VALUE=DATE:20200908
DTEND;VALUE=DATE:20200909
DTSTAMP:20260425T123510
CREATED:20200828T051944Z
LAST-MODIFIED:20221222T183427Z
UID:4092-1599523200-1599609599@ridgeinnovative.com
SUMMARY:Agents Can Sell Managed Services
DESCRIPTION:Nancy Ridge is speaking at Channel Partners Virtual 2020 – #CPVirtual\nJoin agents\, MSPs\, VARs\, integrators\, consultants and providers for the inaugural 100% online Channel Partners event. \nAgents Can Sell Managed Services. Here’s How.\nTuesday\, September 8\, 2020 12:10pm – 12:40pm\n\nREGISTER NOW\nA side effect of COVID? More companies are adopting remote work – and with that\, demand for managed services is skyrocketing. Many agents are looking toward managed services to up their recurring revenue and create ongoing stickiness with their customers. This pivot sounds great in theory\, but in practice\, it can be almost impossible to figure out on your own. It can be done\, however\, and we’ve arranged a panel of agents who have “been there\, done that” to tell you how. Join Jared Martin\, vice president\, MSx managed services at TPx Communications\, as he leads a panel of experts to lay out how you can integrate managed services into your existing agent business model. \nMust be registered with a Standard or Premier pass to attend this session.
URL:https://ridgeinnovative.com/event/2020-cpvirtual-agents-can-sell-managed-services/
CATEGORIES:Channel,event,Speaking
ATTACH;FMTTYPE=:
END:VEVENT
BEGIN:VEVENT
DTSTART;TZID=America/Los_Angeles:20200311T130000
DTEND;TZID=America/Los_Angeles:20200311T130000
DTSTAMP:20260425T123510
CREATED:20200218T152330Z
LAST-MODIFIED:20221222T183428Z
UID:3931-1583931600-1583931600@ridgeinnovative.com
SUMMARY:Channel Partners Expo 2020
DESCRIPTION:Comprehensive Security: An Integrated Portfolio for Evolving Threats\n \nMarch 11 @ 1pm \n\nSponsored by Cisco with special guest panel\nLocation:\nVenetian\n201 Sands Avenue\, Las Vegas\nRoom Bassano #2601
URL:https://ridgeinnovative.com/event/channel-partners-expo-2020/
CATEGORIES:Channel,event,Speaking
ATTACH;FMTTYPE=:
END:VEVENT
BEGIN:VEVENT
DTSTART;VALUE=DATE:20191201
DTEND;VALUE=DATE:20191202
DTSTAMP:20260425T123510
CREATED:20191030T162754Z
LAST-MODIFIED:20221222T183428Z
UID:3849-1575158400-1575244799@ridgeinnovative.com
SUMMARY:ACW Connect Live @ CPEvolution Europe
DESCRIPTION:Exporting Empowerment for Women in the Tech Channel \nOceans and borders may divide us\, but we’re joined in a common experience as women in the tech channel. The Alliance of Channel Women has spent nearly a decade helping American channel women find their voice. And\, now we’re ready to export the lessons we’ve learned about empowering women to advance their tech careers in our first international event at Channel Evolution Europe. We’re excited to meet with our European counterparts to discuss the opportunities and challenges for channel women as well as offer guidance for jumpstarting their own efforts to create a community for learning\, collaboration and leadership. \nLet’s bridge the gaps for channel women together! \nJoin us for a dynamic evening of networking\, conversation and collaboration!
URL:https://ridgeinnovative.com/event/acw-connect-live-cpevolution-europe/
CATEGORIES:Channel,event,Speaking,women in tech
ATTACH;FMTTYPE=:
END:VEVENT
BEGIN:VEVENT
DTSTART;TZID=America/Los_Angeles:20191104T160000
DTEND;TZID=America/Los_Angeles:20191104T173000
DTSTAMP:20260425T123510
CREATED:20190905T212002Z
LAST-MODIFIED:20221222T183428Z
UID:3479-1572883200-1572888600@ridgeinnovative.com
SUMMARY:How to Be a Woman In Technology
DESCRIPTION:Don’t miss our session\, “How To Be A Woman In Technology\,” at the 2019 INCOMPAS Show on Nov. 4th in Louisville!
URL:https://ridgeinnovative.com/event/how-to-be-a-woman-in-technology/
CATEGORIES:Channel,event,Speaking,women in tech
ATTACH;FMTTYPE=:
END:VEVENT
BEGIN:VEVENT
DTSTART;TZID=America/New_York:20190911T140000
DTEND;TZID=America/New_York:20190911T144000
DTSTAMP:20260425T123510
CREATED:20190827T172300Z
LAST-MODIFIED:20221222T183429Z
UID:3206-1568210400-1568212800@ridgeinnovative.com
SUMMARY:Channel Partners Evolution 2019
DESCRIPTION:Join Nancy Ridge at Channel Partners Evolution in Washington\, D.C. as she appears as a panelist on Wednesday\, September 11\, 2019 at 2:00 p.m. Eastern time. The panel discussion\, entitled “Data Center 2020: 3 Trends Changing the Game for Partners”\, will take place at the Walter E. Washington Convention Center.
URL:https://ridgeinnovative.com/event/channel-partners-expo-nancy-ridge-speaker/
CATEGORIES:Channel,event,Speaking
ATTACH;FMTTYPE=:
END:VEVENT
END:VCALENDAR